Workbook
Name Azua: Prov!$C$3:$C$12
Name Bahoruco: Prov!$C$13:$C$17
Name Barahona: Prov!$C$18:$C$28
Name CodigoActividad: 'Formulario PPGR2'!$H$104:$H$269
Name Dajabon: Prov!$C$29:$C$33
Name Dajabón: Prov!$C$29:$C$33
Name Distrito_Nacional: Prov!$C$2
Name Duarte: Prov!$C$34:$C$40
Name El_Seibo: Prov!$C$41:$C$42
Name Elias_Pina: Prov!$C$43:$C$48
Name Elías_Piña: Prov!$C$43:$C$48
Name Espaillat: Prov!$C$49:$C$52
Name Hato_Mayor: Prov!$C$53:$C$55
Name Hermanas_Mirabal: Prov!$C$56:$C$58
Name Independencia: Prov!$C$59:$C$64
Name La_Altagracia: Prov!$C$65:$C$66
Name La_Romana: Prov!$C$67:$C$69
Name La_Vega: Prov!$C$70:$C$73
Name Le.1: Obj!$D$122:$D$124
Name Le.2: Obj!$D$125:$D$127
Name Le.3: Obj!$D$128:$D$134
Name Le.4: Obj!$D$134
Name ls_ComprayAlquiler: Catalogo!$G$34:$G$42
Name ls_Departamento: Catalogo!$D$37:$D$97
Name Ls_DepartamentosSRS: Catalogo!$G$170:$G$182
Name Ls_DependenciasSRS: Catalogo!$B$137:$B$142
Name ls_Direccion: Catalogo!$D$33:$D$34
Name Ls_DivisionesSRS: Catalogo!$E$145:$E$161
Name Ls_Estructura: Catalogo!$B$24:$B$29
Name Ls_GerenciasSRS: Catalogo!$E$164:$E$166
Name Ls_LinesEstategica: Obj!$B$6:$B$8
Name Ls_Medio_Verificacion: Catalogo!$B$188:$B$207
Name Ls_ObjEstrategico: Obj!$G$6:$G$21
Name Ls_Oficina: Catalogo!$D$127:$D$130
Name Ls_OficinasSRS: Catalogo!$E$179:$E$181
Name ls_Regiones: Catalogo!$B$10:$B$20
Name ls_SubDireccion: Catalogo!$D$100:$D$120
Name ls_TiposAcciones: Catalogo!$G$11:$G$14
Name ls_UnidadesSRS: Catalogo!$B$145:$B$173
Name lsAcabadosTextiles: Insumos!$C$2:$C$3
Name lsAireAcondicionado: Insumos!$C$333:$C$334
Name lsAlimentosyBebidas: Insumos!$C$4:$C$23
Name lsArticulosdePlastico: Insumos!$C$24:$C$30
Name lsElectrodomesticos: Insumos!$C$31:$C$35
Name lsEquiposComputos: Insumos!$C$132:$C$136
Name lsEquiposMedicos: Insumos!$C$44:$C$131
Name lsEquiposSeguridad: Insumos!$C$137:$C$138
Name lsEquiposTransporte: Insumos!$C$526:$C$528
Name lsEventosGenerales: Insumos!$C$139:$C$141
Name lsFuentesFinanciamiento: LSIns!$F$5:$F$8
Name lsGasoil: Insumos!$C$142:$C$149
Name lsHerramientasMenores: Insumos!$C$150:$C$179
Name lsImpresionyEncuadernacion: Insumos!$C$180
Name lsInsumos: LSIns!$B$5:$B$45
Name lsInsumosEquipos: LSIns!$F$16:$F$31
Name lsLlantasyNeumaticos: Insumos!$C$181:$C$188
Name lsMantenimiento: Insumos!$C$189:$C$202
Name lsMantenimientoyReparacion: Catalogo!$G$28:$G$31
Name lsMaterialesdeLimpieza: Insumos!$C$203:$C$217
Name lsMueblesdeAlojamiento: Insumos!$C$218:$C$219

Sheet Resumen
I1: Siglas Dependencias DC-SNS
A2: Servicio Nacional de Salud | I2: Dirección Ejecutiva (DE)
A3: Dirección de Planificación y Desarrollo | I3: Atención a Usuarios (DAU)
I4: Laboratorio e Imágenes (LCI)
A5: Cantidad acciones/actividades/trimestre | I5: Cooperación Internacional (COP)
A6: Primer Trimestre | B6: =+'Formulario PPGR2'!$J$270+'Formulario PPGR2'!$K$270+'Formulario PPGR2'!$L$270 -> 216 | I6: Calidad Institucional (DCG)
A7: Segundo Trimestre | B7: =+'Formulario PPGR2'!$M$270+'Formulario PPGR2'!$N$270+'Formulario PPGR2'!$O$270 -> 314 | I7: Administración (ADM)
A8: Tercer Trimestre | B8: =+'Formulario PPGR2'!$P$270+'Formulario PPGR2'!$Q$270+'Formulario PPGR2'!$R$270 -> 291 | I8: Dirección Centros Hospitalarios (DCH)
A9: Cuarto Trimestre | B9: =+'Formulario PPGR2'!$S$270+'Formulario PPGR2'!$T$270+'Formulario PPGR2'!$U$270 -> 295 | I9: Servicios de Atención Emergencias Extrahospitalaria (DAEH)
A10: Total actividades del año | B10: =SUM(B6:B9) -> 1116 | I10: Comunicaciones (DCE)
I11: Financiero (DFI)
I12: Gestión Clínica (DGC)
I13: Proyectos Institucionales (DPI)
I14: Cuidados de Enfermería (ENF)
I15: Desarrollo Institucional (DDI)
I16: Seguimiento, Evaluación y Calidad de los Servicios de Salud (GCSS)
A17: Tabla Resumen POA | B17: {=+'Formulario PPGR1'!M2:O2} -> 2025 | C17: 0 | D17: 0 | I17: Oficina Equidad Género (OEG)
A18: Área Organizacional | B18: Presupuesto | C18: Nº Productos | D18: Nº Actividades | E18: % (Productos) | F18: % (Actividades) | G18: % (Presupuesto) | I18: Recursos Humanos (DRH)
E19: =+C19/$C$37 -> #DIV/0! | F19: =+D19/$D$37 -> #DIV/0! | G19: =+B19/$B$37 -> #DIV/0! | I19: Infraestructura y Equipos (DIE)
E20: =+C20/$C$37 -> #DIV/0! | F20: =+D20/$D$37 -> #DIV/0! | G20: =+B20/$B$37 -> #DIV/0! | I20: Jurídica (DCJ)
E21: =+C21/$C$37 -> #DIV/0! | F21: =+D21/$D$37 -> #DIV/0! | G21: =+B21/$B$37 -> #DIV/0! | I21: Formulación, Monitoreo y Evaluación de PPP (FME)
E22: =+C22/$C$37 -> #DIV/0! | F22: =+D22/$D$37 -> #DIV/0! | G22: =+B22/$B$37 -> #DIV/0! | I22: Planificación (DPD)
E23: =+C23/$C$37 -> #DIV/0! | F23: =+D23/$D$37 -> #DIV/0! | G23: =+B23/$B$37 -> #DIV/0! | I23: Dirección Primer Nivel (DPN)
E24: =+C24/$C$37 -> #DIV/0! | F24: =+D24/$D$37 -> #DIV/0! | G24: =+B24/$B$37 -> #DIV/0! | I24: Asistencia a la Red (DAR)
E25: =+C25/$C$37 -> #DIV/0! | F25: =+D25/$D$37 -> #DIV/0! | G25: =+B25/$B$37 -> #DIV/0! | I25: Seguridad Física (DSF)
E26: =+C26/$C$37 -> #DIV/0! | F26: =+D26/$D$37 -> #DIV/0! | G26: =+B26/$B$37 -> #DIV/0! | I26: Sistema de Información (DGI)
E27: =+C27/$C$37 -> #DIV/0! | F27: =+D27/$D$37 -> #DIV/0! | G27: =+B27/$B$37 -> #DIV/0! | I27: Tecnología de la Información (DTI)
E28: =+C28/$C$37 -> #DIV/0! | F28: =+D28/$D$37 -> #DIV/0! | G28: =+B28/$B$37 -> #DIV/0! | I28: Monitoreo Calidad de los Servicios de Salud (MCS)
E29: =+C29/$C$37 -> #DIV/0! | F29: =+D29/$D$37 -> #DIV/0! | G29: =+B29/$B$37 -> #DIV/0! | I29: Materno-Infantil (MIA)
E30: =+C30/$C$37 -> #DIV/0! | F30: =+D30/$D$37 -> #DIV/0! | G30: =+B30/$B$37 -> #DIV/0! | I30: Oficina de Acceso a la Información (OAI)
... E36: =+C36/$C$37 -> #DIV/0! | F36: =+D36/$D$37 -> #DIV/0! | G36: =+B36/$B$37 -> #DIV/0! | I36: Salud Mental (DSM)
A37: Total | B37: =SUM(B19:B36) -> 0 | C37: =SUM(C19:C36) -> 0 | D37: =SUM(D19:D36) -> 0 | E37: =SUM(E19:E36) -> #DIV/0! | F37: =SUM(F19:F36) -> #DIV/0! | G37: =SUM(G19:G36) -> #DIV/0! | I37: Compras y Contrataciones (DCC)
I38: Archivo y Correspondencia (DAC)
I39: Servicios Generales (DSG)
I40: Activo Fijo (DAF)
I41: Almacén y Suministros (DAS)
I42: Litigios (LIT)
I43: Elaboración de Documentos Legales (EDL)
I44: Gestión de Servicios de Laboratorio y Sangre (GLS)
I45: Gestión Servicios de Imágenes (GSI)
...

Sheet Formulario PPGR1
G2: Servicio Nacional de Salud | L2: Año del POA: | M2: 2025
G3: Dirección de Planificación y Desarrollo | L3: Servicio Regional de Salud: | M3: SNS - Dirección Central | Q3: =VLOOKUP(M3,Catalogo!$B$10:$C$20,2,FALSE) -> Ls_Estructura
G4: Plan Operativo Anual | L4: Estructura: | M4: Dirección | Q4: =IF(Q3="Ls_Estructura",VLOOKUP(M4,Catalogo!B24:C28,2,FALSE),VLOOKUP(M4,Catalogo!$B$137:$C$141,2,FALSE)) -> Ls_Direccion
G5: Identificación de Productos/Resultados | L5: =IF(Q3="Ls_Estructura",VLOOKUP($M$4,Catalogo!$B$24:$D$29,3,FALSE),VLOOKUP($M$4,Catalogo!$B$137:$D$141,3,FALSE)) -> Dirección: | M5: SNS - Dirección Central
B8: ID_Dependendencia | C8: POA | D8: SRS | E8: AREA | F8: Eje Estratégico | G8: Cod_LE | H8: Objetivo | I8: Cod_Obj | J8: Resultado esperado | K8: Productos | L8: Indicador | M8: Unidad de medida | N8: Línea Base | O8: Meta | P8: Supuestos | Q8: Dependencia responsable
B9: =IF('Formulario PPGR1'!$F9="","",CONCATENATE('Formulario PPGR1'!$C9,".",'Formulario PPGR1'!$D9,".",'Formulario PPGR1'!$E9,".",#REF!)) -> #REF! | C9: =IF('Formulario PPGR1'!$F9="","",#REF!) -> #REF! | D9: =IF('Formulario PPGR1'!$F9="","",#REF!) -> #REF! | E9: =IF('Formulario PPGR1'!$F9="","",#REF!) -> #REF! | F9: LE.1 - Desarrollo y fortalecimiento de las redes integradas de servicios de salud fundamentada en el Modelo de Atención | G9: {=_xlfn.XLOOKUP($F9,LE_tbl[[#All],[Ls_LinesEstategica]],LE_tbl[[#All],[Le_code]],"",0)} -> LE.1 | H9: 1.1 Fortalecer los niveles de atención priorizando el Primer Nivel de Atención, incrementando su capacidad de resolución para satisfacer eficientemente las necesidades de salud de la población. | I9: =_xlfn.XLOOKUP($H9,Obj!$D$122:$D$134,Obj!$E$122:$E$134,"",0) -> Obj1.1 | J9: 1.1.1 Primer Nivel de Atención fortalecido y con alta resolución para garantizar la prestación de servicios integrales de promoción de la salud, prevención de la enfermedad, diagnóstico, tratamiento, rehabilitación y cuidados paliativos; condicionada a la necesidades de salud y características de la población | K9: 1.1.1.1 Aumento de la cobertura de Adscripción en el PNA | L9: Porcentaje de población adscrita al primer nivel de atención (registrado en SIRPAFF) | M9: Porcentaje | N9: 6,9 (2023) | O9: 10 | Q9: Primer Nivel
B10: =IF('Formulario PPGR1'!$F10="","",CONCATENATE('Formulario PPGR1'!$C10,".",'Formulario PPGR1'!$D10,".",'Formulario PPGR1'!$E10,".",#REF!)) | C10: =IF('Formulario PPGR1'!$F10="","",#REF!) | D10: =IF('Formulario PPGR1'!$F10="","",#REF!) | E10: =IF('Formulario PPGR1'!$F10="","",#REF!) | G10: {=_xlfn.XLOOKUP($F10,LE_tbl[[#All],[Ls_LinesEstategica]],LE_tbl[[#All],[Le_code]],"",0)} | I10: =_xlfn.XLOOKUP($H10,Obj!$D$122:$D$134,Obj!$E$122:$E$134,"",0) | L10: Cobertura de UNAP respecto a la sectorización vigente | M10: Porcentaje | N10: 69,8 (2023) | O10: 70 | Q10: Primer Nivel
B11: =IF('Formulario PPGR1'!$F11="","",CONCATENATE('Formulario PPGR1'!$C11,".",'Formulario PPGR1'!$D11,".",'Formulario PPGR1'!$E11,".",#REF!)) | C11: =IF('Formulario PPGR1'!$F11="","",#REF!) | D11: =IF('Formulario PPGR1'!$F11="","",#REF!) | E11: =IF('Formulario PPGR1'!$F11="","",#REF!) | G11: {=_xlfn.XLOOKUP($F11,LE_tbl[[#All],[Ls_LinesEstategica]],LE_tbl[[#All],[Le_code]],"",0)} | I11: =_xlfn.XLOOKUP($H11,Obj!$D$122:$D$134,Obj!$E$122:$E$134,"",0) | K11: 1.1.1.2 Fortalecimiento del Primer Nivel de Atención sustentado en la implementación del Modelo de Atención | L11: Proporción de consultas del SNS realizadas en el primer nivel de atención | M11: Porcentaje | N11: 36,5 (2023) | O11: 40 | Q11: Primer Nivel
B12: =IF('Formulario PPGR1'!$F12="","",CONCATENATE('Formulario PPGR1'!$C12,".",'Formulario PPGR1'!$D12,".",'Formulario PPGR1'!$E12,".",#REF!)) | C12: =IF('Formulario PPGR1'!$F12="","",#REF!) | D12: =IF('Formulario PPGR1'!$F12="","",#REF!) | E12: =IF('Formulario PPGR1'!$F12="","",#REF!) | G12: {=_xlfn.XLOOKUP($F12,LE_tbl[[#All],[Ls_LinesEstategica]],LE_tbl[[#All],[Le_code]],"",0)} | I12: =_xlfn.XLOOKUP($H12,Obj!$D$122:$D$134,Obj!$E$122:$E$134,"",0) | L12: Porcentaje de puérperas que recibió visita domiciliaria en las primeras 72 horas de regresar a su casa | M12: Porcentaje | N12: S/D | O12: 35 | Q12: Primer Nivel
B13: =IF('Formulario PPGR1'!$F13="","",CONCATENATE('Formulario PPGR1'!$C13,".",'Formulario PPGR1'!$D13,".",'Formulario PPGR1'!$E13,".",#REF!)) | C13: =IF('Formulario PPGR1'!$F13="","",#REF!) | D13: =IF('Formulario PPGR1'!$F13="","",#REF!) | E13: =IF('Formulario PPGR1'!$F13="","",#REF!) | G13: {=_xlfn.XLOOKUP($F13,LE_tbl[[#All],[Ls_LinesEstategica]],LE_tbl[[#All],[Le_code]],"",0)} | I13: =_xlfn.XLOOKUP($H13,Obj!$D$122:$D$134,Obj!$E$122:$E$134,"",0) | L13: Porcentaje de recién nacidos que recibió visita domiciliaria en las primeras 72 horas de regresar a su casa | M13: Porcentaje | N13: S/D | O13: 35 | Q13: Primer Nivel
B14: =IF('Formulario PPGR1'!$F14="","",CONCATENATE('Formulario PPGR1'!$C14,".",'Formulario PPGR1'!$D14,".",'Formulario PPGR1'!$E14,".",#REF!)) | C14: =IF('Formulario PPGR1'!$F14="","",#REF!) | D14: =IF('Formulario PPGR1'!$F14="","",#REF!) | E14: =IF('Formulario PPGR1'!$F14="","",#REF!) | G14: {=_xlfn.XLOOKUP($F14,LE_tbl[[#All],[Ls_LinesEstategica]],LE_tbl[[#All],[Le_code]],"",0)} | I14: =_xlfn.XLOOKUP($H14,Obj!$D$122:$D$134,Obj!$E$122:$E$134,"",0) | L14: Proporción de mujeres embarazadas que recibieron primer control prenatal antes de la semana 15 de gestación | M14: Porcentaje | N14: 50,00 (2022) | O14: 52 | Q14: Primer Nivel
B15: =IF('Formulario PPGR1'!$F15="","",CONCATENATE('Formulario PPGR1'!$C15,".",'Formulario PPGR1'!$D15,".",'Formulario PPGR1'!$E15,".",#REF!)) | C15: =IF('Formulario PPGR1'!$F15="","",#REF!) | D15: =IF('Formulario PPGR1'!$F15="","",#REF!) | E15: =IF('Formulario PPGR1'!$F15="","",#REF!) | G15: {=_xlfn.XLOOKUP($F15,LE_tbl[[#All],[Ls_LinesEstategica]],LE_tbl[[#All],[Le_code]],"",0)} | I15: =_xlfn.XLOOKUP($H15,Obj!$D$122:$D$134,Obj!$E$122:$E$134,"",0) | K15: 1.1.1.3 Despliegue del programa salud escolar | L15: Proporción de estudiantes beneficiados respecto a la matrícula total | M15: Porcentaje | N15: S/D | O15: 80 | Q15: Primer Nivel Laboratorio e Imágenes
B16: =IF('Formulario PPGR1'!$F16="","",CONCATENATE('Formulario PPGR1'!$C16,".",'Formulario PPGR1'!$D16,".",'Formulario PPGR1'!$E16,".",#REF!)) -> #REF! | C16: =IF('Formulario PPGR1'!$F16="","",#REF!) -> #REF! | D16: =IF('Formulario PPGR1'!$F16="","",#REF!) -> #REF! | E16: =IF('Formulario PPGR1'!$F16="","",#REF!) -> #REF! | F16: LE.1 - Desarrollo y fortalecimiento de las redes integradas de servicios de salud fundamentada en el Modelo de Atención | G16: {=_xlfn.XLOOKUP($F16,LE_tbl[[#All],[Ls_LinesEstategica]],LE_tbl[[#All],[Le_code]],"",0)} -> LE.1 | H16: 1.1 Fortalecer los niveles de atención priorizando el Primer Nivel de Atención, incrementando su capacidad de resolución para satisfacer eficientemente las necesidades de salud de la población. | I16: =_xlfn.XLOOKUP($H16,Obj!$D$122:$D$134,Obj!$E$122:$E$134,"",0) -> Obj1.1 | J16: 1.1.2 Reducida la carga de las enfermedades crónicas incluidos los diferentes tipos de cáncer, los trastornos de salud mental, así como ante discapacidad, violencia y traumatismos, a través de servicios de atención que faciliten la detección temprana y la continuidad de la atención, eliminando las brechas en el acceso y utilización de los servicios de salud. | K16: 1.1.2.1 Programa de Fortalecimiento del Nivel Especializado | L16: Porcentaje de ocupación hospitalaria | M16: Porcentaje | N16: 51,05 (2024) | O16: 55 | Q16: Centros Hospitalarios
B17: =IF('Formulario PPGR1'!$F17="","",CONCATENATE('Formulario PPGR1'!$C17,".",'Formulario PPGR1'!$D17,".",'Formulario PPGR1'!$E17,".",#REF!)) | C17: =IF('Formulario PPGR1'!$F17="","",#REF!) | D17: =IF('Formulario PPGR1'!$F17="","",#REF!) | E17: =IF('Formulario PPGR1'!$F17="","",#REF!) | G17: {=_xlfn.XLOOKUP($F17,LE_tbl[[#All],[Ls_LinesEstategica]],LE_tbl[[#All],[Le_code]],"",0)} | I17: =_xlfn.XLOOKUP($H17,Obj!$D$122:$D$134,Obj!$E$122:$E$134,"",0) | K17: 1.1.2.2 Operaciones de emergencias y gestión de riesgos | L17: Porcentaje de Hospitales con Plan Hospitalario de Emergencia y Desastres aprobado | M17: Porcentaje | N17: 98,96 (2023) | O17: 100 | Q17: Centros Hospitalarios
B18: =IF('Formulario PPGR1'!$F18="","",CONCATENATE('Formulario PPGR1'!$C18,".",'Formulario PPGR1'!$D18,".",'Formulario PPGR1'!$E18,".",#REF!)) | C18: =IF('Formulario PPGR1'!$F18="","",#REF!) | D18: =IF('Formulario PPGR1'!$F18="","",#REF!) | E18: =IF('Formulario PPGR1'!$F18="","",#REF!) | G18: {=_xlfn.XLOOKUP($F18,LE_tbl[[#All],[Ls_LinesEstategica]],LE_tbl[[#All],[Le_code]],"",0)} | I18: =_xlfn.XLOOKUP($H18,Obj!$D$122:$D$134,Obj!$E$122:$E$134,"",0) | K18: 1.1.2.3 Implementación de la estrategia HEARTS para la prevención y control de las enfermedades crónicas no transmisibles (ECNT) implementada. | L18: Porcentaje de individuos diagnosticados con Diabetes tipo II en seguimiento y tratamiento, según protocolo | M18: Porcentaje | N18: 82,5 (2023) | O18: 85 | Q18: Primer Nivel Gestión Clínica
B19: =IF('Formulario PPGR1'!$F19="","",CONCATENATE('Formulario PPGR1'!$C19,".",'Formulario PPGR1'!$D19,".",'Formulario PPGR1'!$E19,".",#REF!)) | C19: =IF('Formulario PPGR1'!$F19="","",#REF!) | D19: =IF('Formulario PPGR1'!$F19="","",#REF!) | E19: =IF('Formulario PPGR1'!$F19="","",#REF!) | G19: {=_xlfn.XLOOKUP($F19,LE_tbl[[#All],[Ls_LinesEstategica]],LE_tbl[[#All],[Le_code]],"",0)} | I19: =_xlfn.XLOOKUP($H19,Obj!$D$122:$D$134,Obj!$E$122:$E$134,"",0) | L19: Porcentaje de individuos diagnosticados con Hipertension en seguimiento y tratamiento, según protocolo | M19: Porcentaje | N19: 86 (2023) | O19: 90 | Q19: Primer Nivel Gestión Clínica
B20: =IF('Formulario PPGR1'!$F20="","",CONCATENATE('Formulario PPGR1'!$C20,".",'Formulario PPGR1'!$D20,".",'Formulario PPGR1'!$E20,".",#REF!)) | C20: =IF('Formulario PPGR1'!$F20="","",#REF!) | D20: =IF('Formulario PPGR1'!$F20="","",#REF!) | E20: =IF('Formulario PPGR1'!$F20="","",#REF!) | G20: {=_xlfn.XLOOKUP($F20,LE_tbl[[#All],[Ls_LinesEstategica]],LE_tbl[[#All],[Le_code]],"",0)} | I20: =_xlfn.XLOOKUP($H20,Obj!$D$122:$D$134,Obj!$E$122:$E$134,"",0) | L20: Porcentaje de mujeres mayores de 40 años que han realizado mamografía en el último año | M20: Porcentaje | N20: 1.8 (2023) | O20: 2.00 | Q20: Gestión Clínica Materno-Infantil y Adolescente Laboratorio e Imágenes Centros Hospitalarios
B21: =IF('Formulario PPGR1'!$F21="","",CONCATENATE('Formulario PPGR1'!$C21,".",'Formulario PPGR1'!$D21,".",'Formulario PPGR1'!$E21,".",#REF!)) | C21: =IF('Formulario PPGR1'!$F21="","",#REF!) | D21: =IF('Formulario PPGR1'!$F21="","",#REF!) | E21: =IF('Formulario PPGR1'!$F21="","",#REF!) | G21: {=_xlfn.XLOOKUP($F21,LE_tbl[[#All],[Ls_LinesEstategica]],LE_tbl[[#All],[Le_code]],"",0)} | I21: =_xlfn.XLOOKUP($H21,Obj!$D$122:$D$134,Obj!$E$122:$E$134,"",0) | L21: Porcentaje de mujeres que han realizado Papanicolaou en el último año | M21: Porcentaje | N21: 3.78 (2023) | O21: 4.71 | Q21: Gestión Clínica Materno-Infantil y Adolescente Laboratorio e Imágenes Primer Nivel Centros Hospitalarios
B22: =IF('Formulario PPGR1'!$F22="","",CONCATENATE('Formulario PPGR1'!$C22,".",'Formulario PPGR1'!$D22,".",'Formulario PPGR1'!$E22,".",#REF!)) | C22: =IF('Formulario PPGR1'!$F22="","",#REF!) | D22: =IF('Formulario PPGR1'!$F22="","",#REF!) | E22: =IF('Formulario PPGR1'!$F22="","",#REF!) | G22: {=_xlfn.XLOOKUP($F22,LE_tbl[[#All],[Ls_LinesEstategica]],LE_tbl[[#All],[Le_code]],"",0)} | I22: =_xlfn.XLOOKUP($H22,Obj!$D$122:$D$134,Obj!$E$122:$E$134,"",0) | L22: Porcentaje de hombres que han realizado examen de próstata en el último año | M22: Porcentaje | N22: 1.12 (2023) | O22: 1.16 | Q22: Gestión Clínica Laboratorio e Imágenes Centros Hospitalarios
B23: =IF('Formulario PPGR1'!$F23="","",CONCATENATE('Formulario PPGR1'!$C23,".",'Formulario PPGR1'!$D23,".",'Formulario PPGR1'!$E23,".",#REF!)) | C23: =IF('Formulario PPGR1'!$F23="","",#REF!) | D23: =IF('Formulario PPGR1'!$F23="","",#REF!) | E23: =IF('Formulario PPGR1'!$F23="","",#REF!) | G23: {=_xlfn.XLOOKUP($F23,LE_tbl[[#All],[Ls_LinesEstategica]],LE_tbl[[#All],[Le_code]],"",0)} | I23: =_xlfn.XLOOKUP($H23,Obj!$D$122:$D$134,Obj!$E$122:$E$134,"",0) | K23: 1.1.2.4 Fortalecimiento de la atención integral a menores de 5 años | L23: Proporción de consultas crecimiento y desarrollo realizadas a menores de 5 años. | M23: Porcentaje | N23: S/D | O23: 30 | Q23: Primer Nivel Materno-Infantil y Adolescente
B24: =IF('Formulario PPGR1'!$F24="","",CONCATENATE('Formulario PPGR1'!$C24,".",'Formulario PPGR1'!$D24,".",'Formulario PPGR1'!$E24,".",#REF!)) | C24: =IF('Formulario PPGR1'!$F24="","",#REF!) | D24: =IF('Formulario PPGR1'!$F24="","",#REF!) | E24: =IF('Formulario PPGR1'!$F24="","",#REF!) | G24: {=_xlfn.XLOOKUP($F24,LE_tbl[[#All],[Ls_LinesEstategica]],LE_tbl[[#All],[Le_code]],"",0)} | I24: =_xlfn.XLOOKUP($H24,Obj!$D$122:$D$134,Obj!$E$122:$E$134,"",0) | K24: 1.1.2.5 Fotalecimiento de los servicios de la red de servicios de Salud Mental | L24: Porcentaje de Consultas de Salud Mental en la Red Pública | M24: Porcentaje | N24: 2,22 (2023) | O24: 3 | Q24: Gestión Clínica
B25: =IF('Formulario PPGR1'!$F25="","",CONCATENATE('Formulario PPGR1'!$C25,".",'Formulario PPGR1'!$D25,".",'Formulario PPGR1'!$E25,".",#REF!)) | C25: =IF('Formulario PPGR1'!$F25="","",#REF!) | D25: =IF('Formulario PPGR1'!$F25="","",#REF!) | E25: =IF('Formulario PPGR1'!$F25="","",#REF!) | G25: {=_xlfn.XLOOKUP($F25,LE_tbl[[#All],[Ls_LinesEstategica]],LE_tbl[[#All],[Le_code]],"",0)} | I25: =_xlfn.XLOOKUP($H25,Obj!$D$122:$D$134,Obj!$E$122:$E$134,"",0) | K25: 1.1.2.6 Seguimiento a la aplicación de los protocolos de las enfermedades zoonóticas | L25: Porcentaje de casos notificados y controlados según protocolo. | M25: Porcentaje | N25: S/D | O25: 85 | Q25: Gestión Clínica
B26: =IF('Formulario PPGR1'!$F26="","",CONCATENATE('Formulario PPGR1'!$C26,".",'Formulario PPGR1'!$D26,".",'Formulario PPGR1'!$E26,".",#REF!)) -> #REF! | C26: =IF('Formulario PPGR1'!$F26="","",#REF!) -> #REF! | D26: =IF('Formulario PPGR1'!$F26="","",#REF!) -> #REF! | E26: =IF('Formulario PPGR1'!$F26="","",#REF!) -> #REF! | F26: LE.1 - Desarrollo y fortalecimiento de las redes integradas de servicios de salud fundamentada en el Modelo de Atención | G26: {=_xlfn.XLOOKUP($F26,LE_tbl[[#All],[Ls_LinesEstategica]],LE_tbl[[#All],[Le_code]],"",0)} -> LE.1 | H26: 1.1 Fortalecer los niveles de atención priorizando el Primer Nivel de Atención, incrementando su capacidad de resolución para satisfacer eficientemente las necesidades de salud de la población. | I26: =_xlfn.XLOOKUP($H26,Obj!$D$122:$D$134,Obj!$E$122:$E$134,"",0) -> Obj1.1 | J26: 1.1.3 Reducida la morbi-mortalidad de las enfermedades transmisibles, incluidas la infección por el VIH/SIDA, la Tuberculosis, las infecciones de transmisión sexual, las hepatitis virales, enfermedades transmitidas por vectores, enfermedades desatendidas, tropicales y zoonóticas, y las enfermedades prevenibles mediante vacunación; con especial atención en las poblaciones vulnerables | K26: 1.1.3.1 Aumento de la provisión de servicios de salud sexual y reproductiva en la Red SNS | L26: Partos Vía Cesárea en el sector público (%) | M26: Porcentaje | N26: 48,83 (2023) | O26: 44.4 | Q26: Materno-Infantil y Adolescentes Centros Hospitalarios Gestión Clínica
B27: =IF('Formulario PPGR1'!$F27="","",CONCATENATE('Formulario PPGR1'!$C27,".",'Formulario PPGR1'!$D27,".",'Formulario PPGR1'!$E27,".",#REF!)) | C27: =IF('Formulario PPGR1'!$F27="","",#REF!) | D27: =IF('Formulario PPGR1'!$F27="","",#REF!) | E27: =IF('Formulario PPGR1'!$F27="","",#REF!) | G27: {=_xlfn.XLOOKUP($F27,LE_tbl[[#All],[Ls_LinesEstategica]],LE_tbl[[#All],[Le_code]],"",0)} | I27: =_xlfn.XLOOKUP($H27,Obj!$D$122:$D$134,Obj!$E$122:$E$134,"",0) | L27: Partos en Adolescentes en establecimientos de la red pública (%) | M27: Porcentaje | N27: 18,42 (2023) | O27: 17.6 | Q27: Materno-Infantil y Adolescentes Centros Hospitalarios
B28: =IF('Formulario PPGR1'!$F28="","",CONCATENATE('Formulario PPGR1'!$C28,".",'Formulario PPGR1'!$D28,".",'Formulario PPGR1'!$E28,".",#REF!)) | C28: =IF('Formulario PPGR1'!$F28="","",#REF!) | D28: =IF('Formulario PPGR1'!$F28="","",#REF!) | E28: =IF('Formulario PPGR1'!$F28="","",#REF!) | G28: {=_xlfn.XLOOKUP($F28,LE_tbl[[#All],[Ls_LinesEstategica]],LE_tbl[[#All],[Le_code]],"",0)} | I28: =_xlfn.XLOOKUP($H28,Obj!$D$122:$D$134,Obj!$E$122:$E$134,"",0) | L28: Cobertura de uso de planificación familiar pos evento obstétrico | M28: Porcentaje | N28: 17,6 (2024) | O28: 25 | Q28: Materno-Infantil y Adolescentes Centros Hospitalarios Primer Nivel
B29: =IF('Formulario PPGR1'!$F29="","",CONCATENATE('Formulario PPGR1'!$C29,".",'Formulario PPGR1'!$D29,".",'Formulario PPGR1'!$E29,".",#REF!)) | C29: =IF('Formulario PPGR1'!$F29="","",#REF!) | D29: =IF('Formulario PPGR1'!$F29="","",#REF!) | E29: =IF('Formulario PPGR1'!$F29="","",#REF!) | G29: {=_xlfn.XLOOKUP($F29,LE_tbl[[#All],[Ls_LinesEstategica]],LE_tbl[[#All],[Le_code]],"",0)} | I29: =_xlfn.XLOOKUP($H29,Obj!$D$122:$D$134,Obj!$E$122:$E$134,"",0) | K29: 1.1.3.2 Mejorar la atención de enfermedades transmisibles | L29: Porcentaje de personas con VIH diagnosticadas (% del total estimado). | M29: Porcentaje | N29: 98,70 (2024) | O29: 95 | Q29: Primer Nivel Gestión Clínica Laboratorio e Imágenes
B30: =IF('Formulario PPGR1'!$F30="","",CONCATENATE('Formulario PPGR1'!$C30,".",'Formulario PPGR1'!$D30,".",'Formulario PPGR1'!$E30,".",#REF!)) | C30: =IF('Formulario PPGR1'!$F30="","",#REF!) | D30: =IF('Formulario PPGR1'!$F30="","",#REF!) | E30: =IF('Formulario PPGR1'!$F30="","",#REF!) | G30: {=_xlfn.XLOOKUP($F30,LE_tbl[[#All],[Ls_LinesEstategica]],LE_tbl[[#All],[Le_code]],"",0)} | I30: =_xlfn.XLOOKUP($H30,Obj!$D$122:$D$134,Obj!$E$122:$E$134,"",0) | L30: Porcentaje de nuevos pacientes VIH en tratamiento | M30: Porcentaje | N30: 79,6 (2024) | O30: 95 | Q30: Primer Nivel Gestión Clínica Laboratorio e Imágenes
B31: =IF('Formulario PPGR1'!$F31="","",CONCATENATE('Formulario PPGR1'!$C31,".",'Formulario PPGR1'!$D31,".",'Formulario PPGR1'!$E31,".",#REF!)) | C31: =IF('Formulario PPGR1'!$F31="","",#REF!) | D31: =IF('Formulario PPGR1'!$F31="","",#REF!) | E31: =IF('Formulario PPGR1'!$F31="","",#REF!) | G31: {=_xlfn.XLOOKUP($F31,LE_tbl[[#All],[Ls_LinesEstategica]],LE_tbl[[#All],[Le_code]],"",0)} | I31: =_xlfn.XLOOKUP($H31,Obj!$D$122:$D$134,Obj!$E$122:$E$134,"",0) | K31: 1.1.3.3 Fortalecimiento de la capacidad de los servicios de salud de VIH para garantizar la atencion integral y de calidad centrada en el paciente de VIH para cumplir las metas 95-95-95 al 2030 y el PoR 42 | L31: Porcentaje de adultos y niños activos en tratamiento Antiretroviral (TARV) del total de PVVIH estimados | M31: Porcentaje | N31: 79.67 (2023) | O31: 85 | Q31: Gestión Clínica
B32: =IF('Formulario PPGR1'!$F32="","",CONCATENATE('Formulario PPGR1'!$C32,".",'Formulario PPGR1'!$D32,".",'Formulario PPGR1'!$E32,".",#REF!)) | C32: =IF('Formulario PPGR1'!$F32="","",#REF!) | D32: =IF('Formulario PPGR1'!$F32="","",#REF!) | E32: =IF('Formulario PPGR1'!$F32="","",#REF!) | G32: {=_xlfn.XLOOKUP($F32,LE_tbl[[#All],[Ls_LinesEstategica]],LE_tbl[[#All],[Le_code]],"",0)} | I32: =_xlfn.XLOOKUP($H32,Obj!$D$122:$D$134,Obj!$E$122:$E$134,"",0) | L32: Porcentaje de adultos y niños que han iniciado tratamiento Antiretroviral (TARV) con una carga viral suprimida a 12 meses (<1000 copias/ml) | M32: Porcentaje | N32: 72.42 (2023) | O32: 85 | Q32: Gestión Clínica
B33: =IF('Formulario PPGR1'!$F33="","",CONCATENATE('Formulario PPGR1'!$C33,".",'Formulario PPGR1'!$D33,".",'Formulario PPGR1'!$E33,".",#REF!)) | C33: =IF('Formulario PPGR1'!$F33="","",#REF!) | D33: =IF('Formulario PPGR1'!$F33="","",#REF!) | E33: =IF('Formulario PPGR1'!$F33="","",#REF!) | G33: {=_xlfn.XLOOKUP($F33,LE_tbl[[#All],[Ls_LinesEstategica]],LE_tbl[[#All],[Le_code]],"",0)} | I33: =_xlfn.XLOOKUP($H33,Obj!$D$122:$D$134,Obj!$E$122:$E$134,"",0) | K33: 1.1.3.4 Fortalecimiento de la capacidad de respuesta para brindar atencion integral centrada en el paciente de Tb en todas sus fases para garantizar el cumplimiento de las metas de fin de la TB al 2030 y PoR 41 | L33: Tasa de curación de casos nuevos de tuberculosis | M33: Tasa | N33: 92 (2024) | O33: 95 | Q33: Gestión Clínica
B34: =IF('Formulario PPGR1'!$F34="","",CONCATENATE('Formulario PPGR1'!$C34,".",'Formulario PPGR1'!$D34,".",'Formulario PPGR1'!$E34,".",#REF!)) | C34: =IF('Formulario PPGR1'!$F34="","",#REF!) | D34: =IF('Formulario PPGR1'!$F34="","",#REF!) | E34: =IF('Formulario PPGR1'!$F34="","",#REF!) | G34: {=_xlfn.XLOOKUP($F34,LE_tbl[[#All],[Ls_LinesEstategica]],LE_tbl[[#All],[Le_code]],"",0)} | I34: =_xlfn.XLOOKUP($H34,Obj!$D$122:$D$134,Obj!$E$122:$E$134,"",0) | L34: Porcentajes de pacientes con tuberculosis evaluados por psicología | M34: Porcentaje | N34: 90,6 (2024) | O34: 95 | Q34: Gestión Clínica
B35: =IF('Formulario PPGR1'!$F35="","",CONCATENATE('Formulario PPGR1'!$C35,".",'Formulario PPGR1'!$D35,".",'Formulario PPGR1'!$E35,".",#REF!)) -> #REF! | C35: =IF('Formulario PPGR1'!$F35="","",#REF!) -> #REF! | D35: =IF('Formulario PPGR1'!$F35="","",#REF!) -> #REF! | E35: =IF('Formulario PPGR1'!$F35="","",#REF!) -> #REF! | F35: LE.1 - Desarrollo y fortalecimiento de las redes integradas de servicios de salud fundamentada en el Modelo de Atención | G35: {=_xlfn.XLOOKUP($F35,LE_tbl[[#All],[Ls_LinesEstategica]],LE_tbl[[#All],[Le_code]],"",0)} -> LE.1 | H35: 1.2 Avanzar en la articulación de las redes de servicios, asegurando que la atención sea integral y acorde con las necesidades territoriales de la población. | I35: =_xlfn.XLOOKUP($H35,Obj!$D$122:$D$134,Obj!$E$122:$E$134,"",0) -> Obj1.2 | J35: 1.2.1 Redes de servicios integradas y con mayor resolución para coordinar la prestación de servicios integrales de promoción de la salud, prevención de la enfermedad, diagnóstico, tratamiento, rehabilitación y cuidados paliativos; condicionada a la necesidades de salud y características de la población, con miras hacia la consecución progresiva del acceso universal a la salud y la cobertura universal de salud | K35: 1.2.1.1 Desarrollo del Programa de Salud Bucal | L35: Incremento de los servicios odontológicos brindados | M35: Porcentaje | N35: 22 (2023) | O35: 30 | Q35: Odontología
B36: =IF('Formulario PPGR1'!$F36="","",CONCATENATE('Formulario PPGR1'!$C36,".",'Formulario PPGR1'!$D36,".",'Formulario PPGR1'!$E36,".",#REF!)) | C36: =IF('Formulario PPGR1'!$F36="","",#REF!) | D36: =IF('Formulario PPGR1'!$F36="","",#REF!) | E36: =IF('Formulario PPGR1'!$F36="","",#REF!) | G36: {=_xlfn.XLOOKUP($F36,LE_tbl[[#All],[Ls_LinesEstategica]],LE_tbl[[#All],[Le_code]],"",0)} | I36: =_xlfn.XLOOKUP($H36,Obj!$D$122:$D$134,Obj!$E$122:$E$134,"",0) | K36: 1.2.1.2 Mejora del suministro y abastecimiento de medicamentos | L36: Porcentaje de disponibilidad de medicamentos trazadores uso Primer Nivel | M36: Porcentaje | N36: 88 | O36: 95 | Q36: Medicamentos e Insumos
B37: =IF('Formulario PPGR1'!$F37="","",CONCATENATE('Formulario PPGR1'!$C37,".",'Formulario PPGR1'!$D37,".",'Formulario PPGR1'!$E37,".",#REF!)) | C37: =IF('Formulario PPGR1'!$F37="","",#REF!) | D37: =IF('Formulario PPGR1'!$F37="","",#REF!) | E37: =IF('Formulario PPGR1'!$F37="","",#REF!) | G37: {=_xlfn.XLOOKUP($F37,LE_tbl[[#All],[Ls_LinesEstategica]],LE_tbl[[#All],[Le_code]],"",0)} | I37: =_xlfn.XLOOKUP($H37,Obj!$D$122:$D$134,Obj!$E$122:$E$134,"",0) | K37: 1.2.1.3 Ampliación y mejora de la provisión de servicios de apoyo diagnóstico y laboratorio | L37: Incremento de las pruebas de laboratorio y de imágenes | M37: Porcentaje | N37: 28 (2023) | O37: 30 | Q37: Laboratorios e Imágenes
B38: =IF('Formulario PPGR1'!$F38="","",CONCATENATE('Formulario PPGR1'!$C38,".",'Formulario PPGR1'!$D38,".",'Formulario PPGR1'!$E38,".",#REF!)) -> #REF! | C38: =IF('Formulario PPGR1'!$F38="","",#REF!) -> #REF! | D38: =IF('Formulario PPGR1'!$F38="","",#REF!) -> #REF! | E38: =IF('Formulario PPGR1'!$F38="","",#REF!) -> #REF! | F38: LE.1 - Desarrollo y fortalecimiento de las redes integradas de servicios de salud fundamentada en el Modelo de Atención | G38: {=_xlfn.XLOOKUP($F38,LE_tbl[[#All],[Ls_LinesEstategica]],LE_tbl[[#All],[Le_code]],"",0)} -> LE.1 | H38: 1.2 Avanzar en la articulación de las redes de servicios, asegurando que la atención sea integral y acorde con las necesidades territoriales de la población. | I38: =_xlfn.XLOOKUP($H38,Obj!$D$122:$D$134,Obj!$E$122:$E$134,"",0) -> Obj1.2 | J38: 1.2.5 Aumentada la eficacia, eficiencia y equidad de la prestación de los servicios de salud a través de la reorganización y transformación de las estructuras de redes de servicios | K38: 1.2.5.1 Implementación de la Metodología de la Gestión Productiva de Servicios de Salud | L38: Porcentaje de hospitales que aplican la metodología | M38: Porcentaje | N38: S/D | O38: 45 | Q38: Centros Hospitalarios
B39: =IF('Formulario PPGR1'!$F39="","",CONCATENATE('Formulario PPGR1'!$C39,".",'Formulario PPGR1'!$D39,".",'Formulario PPGR1'!$E39,".",#REF!)) | C39: =IF('Formulario PPGR1'!$F39="","",#REF!) | D39: =IF('Formulario PPGR1'!$F39="","",#REF!) | E39: =IF('Formulario PPGR1'!$F39="","",#REF!) | G39: {=_xlfn.XLOOKUP($F39,LE_tbl[[#All],[Ls_LinesEstategica]],LE_tbl[[#All],[Le_code]],"",0)} | I39: =_xlfn.XLOOKUP($H39,Obj!$D$122:$D$134,Obj!$E$122:$E$134,"",0) | K39: 1.2.5.2 Despliegue de la Cartera de Servicios en la Red de Servicio Nacional de Salud | L39: Porcentaje de unidades que ofrecen la cartera completa de servicios. | M39: Porcentaje | N39: S/D | O39: 35 | Q39: Gestión Clínica
B40: =IF('Formulario PPGR1'!$F40="","",CONCATENATE('Formulario PPGR1'!$C40,".",'Formulario PPGR1'!$D40,".",'Formulario PPGR1'!$E40,".",#REF!)) -> #REF! | C40: =IF('Formulario PPGR1'!$F40="","",#REF!) -> #REF! | D40: =IF('Formulario PPGR1'!$F40="","",#REF!) -> #REF! | E40: =IF('Formulario PPGR1'!$F40="","",#REF!) -> #REF! | F40: LE.1 - Desarrollo y fortalecimiento de las redes integradas de servicios de salud fundamentada en el Modelo de Atención | G40: {=_xlfn.XLOOKUP($F40,LE_tbl[[#All],[Ls_LinesEstategica]],LE_tbl[[#All],[Le_code]],"",0)} -> LE.1 | H40: 1.2 Avanzar en la articulación de las redes de servicios, asegurando que la atención sea integral y acorde con las necesidades territoriales de la población. | I40: =_xlfn.XLOOKUP($H40,Obj!$D$122:$D$134,Obj!$E$122:$E$134,"",0) -> Obj1.2 | J40: 1.2.2 Garantizada la atención integral con calidad y oportunidad, mediante la coordinación clínica y asistencial de los servicios de salud | K40: 1.2.2.1 Articulación de la Red SNS | L40: Referencias válidas | M40: Porcentaje | N40: S/D | O40: 45 | Q40: Atención a los Usuarios Gestión Clínica
B41: =IF('Formulario PPGR1'!$F41="","",CONCATENATE('Formulario PPGR1'!$C41,".",'Formulario PPGR1'!$D41,".",'Formulario PPGR1'!$E41,".",#REF!)) | C41: =IF('Formulario PPGR1'!$F41="","",#REF!) | D41: =IF('Formulario PPGR1'!$F41="","",#REF!) | E41: =IF('Formulario PPGR1'!$F41="","",#REF!) | G41: {=_xlfn.XLOOKUP($F41,LE_tbl[[#All],[Ls_LinesEstategica]],LE_tbl[[#All],[Le_code]],"",0)} | I41: =_xlfn.XLOOKUP($H41,Obj!$D$122:$D$134,Obj!$E$122:$E$134,"",0) | L41: Contrareferencias efectivas | M41: Porcentaje | N41: S/D | O41: 25 | Q41: Atención a los Usuarios Gestión Clínica
B42: =IF('Formulario PPGR1'!$F42="","",CONCATENATE('Formulario PPGR1'!$C42,".",'Formulario PPGR1'!$D42,".",'Formulario PPGR1'!$E42,".",#REF!)) | C42: =IF('Formulario PPGR1'!$F42="","",#REF!) | D42: =IF('Formulario PPGR1'!$F42="","",#REF!) | E42: =IF('Formulario PPGR1'!$F42="","",#REF!) | G42: {=_xlfn.XLOOKUP($F42,LE_tbl[[#All],[Ls_LinesEstategica]],LE_tbl[[#All],[Le_code]],"",0)} | I42: =_xlfn.XLOOKUP($H42,Obj!$D$122:$D$134,Obj!$E$122:$E$134,"",0) | K42: 1.2.2.2 Provisión de servicios de Salud Materno, Infantil y Adolescentes de Calidad | L42: Razón de mortalidad materna (por 100,000 nacidos vivos) | M42: Razón | N42: 127.33 (2023) | O42: 99.86 | Q42: Materno-Infantil y Adolescentes Centros Hospitalarios
B43: =IF('Formulario PPGR1'!$F43="","",CONCATENATE('Formulario PPGR1'!$C43,".",'Formulario PPGR1'!$D43,".",'Formulario PPGR1'!$E43,".",#REF!)) | C43: =IF('Formulario PPGR1'!$F43="","",#REF!) | D43: =IF('Formulario PPGR1'!$F43="","",#REF!) | E43: =IF('Formulario PPGR1'!$F43="","",#REF!) | G43: {=_xlfn.XLOOKUP($F43,LE_tbl[[#All],[Ls_LinesEstategica]],LE_tbl[[#All],[Le_code]],"",0)} | I43: =_xlfn.XLOOKUP($H43,Obj!$D$122:$D$134,Obj!$E$122:$E$134,"",0) | L43: Tasa de mortalidad infantil (por 1,000 nacidos vivos) | M43: Tasa | N43: 18.44 (2023) | O43: 18.08 | Q43: Materno-Infantil y Adolescentes Centros Hospitalarios
...

Sheet Formulario PPGR2
H2: ='Formulario PPGR1'!G2 -> Servicio Nacional de Salud
H3: ='Formulario PPGR1'!G3 -> Dirección de Planificación y Desarrollo
H4: =+'Formulario PPGR1'!G4 -> Plan Operativo Anual
H5: Identificación de actividades
H6: Servicio Nacional de Salud | Z6: =IF('Formulario PPGR1'!$M$3="SNS - Dirección Central","ls_Departamento","Ls_DepartamentosSRS") -> ls_Departamento
B8: ID_Dependendencia | C8: POA | D8: SRS | E8: AREA | F8: TIPO | G8: Productos | H8: Código | I8: Actividades Programables Presupuestables | J8: Ene | K8: Feb | L8: Mar | M8: Abr | N8: May | O8: Jun | P8: Jul | Q8: Ago | R8: Sep | S8: Oct | T8: Nov | U8: Dic | V8: Total de Acciones | W8: Medio de Verificación 1 | X8: Medio de Verificación 2 | Y8: Medio de Verificación 3 | Z8: Responsable | AA8: OBSERVACIONES POR EL SRS
B9: =IF('Formulario PPGR2'!$G205="","",CONCATENATE('Formulario PPGR2'!$C205,".",'Formulario PPGR2'!$D205,".",'Formulario PPGR2'!$E205,".",'Formulario PPGR2'!$F205)) -> #REF! | D9: =IF('Formulario PPGR2'!$G205="","",'Formulario PPGR1'!#REF!) -> #REF! | E9: =IF('Formulario PPGR2'!$G205="","",'Formulario PPGR1'!#REF!) -> #REF! | F9: =IF('Formulario PPGR2'!$G205="","",'Formulario PPGR1'!#REF!) -> #REF! | G9: 3.1.1.4 Fortalecimiento del Sistema de Administración de Bienes | H9: 3.1.1.4.01 | I9: Actualización de inventarios CPN y ORS | O9: 1 | U9: 1 | V9: =SUM(Tabla2[[#This Row],[Ene]:[Dic]]) -> 2 | W9: Registro Digital | Z9: Administrativo
B10: =IF('Formulario PPGR2'!$G206="","",CONCATENATE('Formulario PPGR2'!$C206,".",'Formulario PPGR2'!$D206,".",'Formulario PPGR2'!$E206,".",'Formulario PPGR2'!$F206)) -> #REF! | D10: =IF('Formulario PPGR2'!$G206="","",'Formulario PPGR1'!#REF!) -> #REF! | E10: =IF('Formulario PPGR2'!$G206="","",'Formulario PPGR1'!#REF!) -> #REF! | F10: =IF('Formulario PPGR2'!$G206="","",'Formulario PPGR1'!#REF!) -> #REF! | G10: 3.1.1.4 Fortalecimiento del Sistema de Administración de Bienes | H10: 3.1.1.4.02 | I10: Auditoría de cumplimiento del manual de administración de bienes en los EESS | R10: 1 | U10: 1 | V10: =SUM(Tabla2[[#This Row],[Ene]:[Dic]]) -> 2 | W10: Informe | X10: Listado de participación | Z10: Administrativo
B11: =IF('Formulario PPGR2'!$G207="","",CONCATENATE('Formulario PPGR2'!$C207,".",'Formulario PPGR2'!$D207,".",'Formulario PPGR2'!$E207,".",'Formulario PPGR2'!$F207)) -> #REF! | D11: =IF('Formulario PPGR2'!$G207="","",'Formulario PPGR1'!#REF!) -> #REF! | E11: =IF('Formulario PPGR2'!$G207="","",'Formulario PPGR1'!#REF!) -> #REF! | F11: =IF('Formulario PPGR2'!$G207="","",'Formulario PPGR1'!#REF!) -> #REF! | G11: 3.1.1.4 Fortalecimiento del Sistema de Administración de Bienes | H11: 3.1.1.4.03 | I11: Registro de activos en el SIAB de los SRS y EESS | L11: 1 | O11: 1 | R11: 1 | U11: 1 | V11: =SUM(Tabla2[[#This Row],[Ene]:[Dic]]) -> 4 | W11: Reporte | Y11: Reporte del SIAB | Z11: Administrativo
B12: =IF('Formulario PPGR2'!$G208="","",CONCATENATE('Formulario PPGR2'!$C208,".",'Formulario PPGR2'!$D208,".",'Formulario PPGR2'!$E208,".",'Formulario PPGR2'!$F208)) -> #REF! | D12: =IF('Formulario PPGR2'!$G208="","",'Formulario PPGR1'!#REF!) -> #REF! | E12: =IF('Formulario PPGR2'!$G208="","",'Formulario PPGR1'!#REF!) -> #REF! | F12: =IF('Formulario PPGR2'!$G208="","",'Formulario PPGR1'!#REF!) -> #REF! | G12: 3.1.1.4 Fortalecimiento del Sistema de Administración de Bienes | H12: 3.1.1.4.04 | I12: Capacitacion a los EESS en el Sistema de Administracion de Bienes (SIAB) | L12: 1 | O12: 1 | R12: 1 | U12: 1 | V12: =SUM(Tabla2[[#This Row],[Ene]:[Dic]]) -> 4 | W12: Listado de participación | X12: Agenda | Z12: Administrativo
B13: =IF('Formulario PPGR2'!$G214="","",CONCATENATE('Formulario PPGR2'!$C214,".",'Formulario PPGR2'!$D214,".",'Formulario PPGR2'!$E214,".",'Formulario PPGR2'!$F214)) -> #REF! | C13: =IF('Formulario PPGR2'!$G214="","",'Formulario PPGR1'!#REF!) -> #REF! | D13: =IF('Formulario PPGR2'!$G214="","",'Formulario PPGR1'!#REF!) -> #REF! | E13: =IF('Formulario PPGR2'!$G214="","",'Formulario PPGR1'!#REF!) -> #REF! | F13: =IF('Formulario PPGR2'!$G214="","",'Formulario PPGR1'!#REF!) -> #REF! | G13: 3.2.1.1 Ejecución de los procesos de compra en tiempo oportuno | H13: 3.2.1.1.02 | I13: Codificación y carga PACC 2026 | T13: 1 | V13: =SUM(Tabla2[[#This Row],[Ene]:[Dic]]) -> 1 | W13: Registro Digital | Z13: Administrativo
B14: =IF('Formulario PPGR2'!$G215="","",CONCATENATE('Formulario PPGR2'!$C215,".",'Formulario PPGR2'!$D215,".",'Formulario PPGR2'!$E215,".",'Formulario PPGR2'!$F215)) -> #REF! | D14: =IF('Formulario PPGR2'!$G215="","",'Formulario PPGR1'!#REF!) -> #REF! | E14: =IF('Formulario PPGR2'!$G215="","",'Formulario PPGR1'!#REF!) -> #REF! | F14: =IF('Formulario PPGR2'!$G215="","",'Formulario PPGR1'!#REF!) -> #REF! | G14: 3.2.1.1 Ejecución de los procesos de compra en tiempo oportuno | H14: 3.2.1.1.03 | I14: Seguimiento al comportamiento del SISCOMPRA | L14: 1 | O14: 1 | R14: 1 | U14: 1 | V14: =SUM(Tabla2[[#This Row],[Ene]:[Dic]]) -> 4 | W14: Informe | Z14: Administrativo
B15: =IF('Formulario PPGR2'!$G216="","",CONCATENATE('Formulario PPGR2'!$C216,".",'Formulario PPGR2'!$D216,".",'Formulario PPGR2'!$E216,".",'Formulario PPGR2'!$F216)) | D15: =IF('Formulario PPGR2'!$G216="","",'Formulario PPGR1'!#REF!) | E15: =IF('Formulario PPGR2'!$G216="","",'Formulario PPGR1'!#REF!) | F15: =IF('Formulario PPGR2'!$G216="","",'Formulario PPGR1'!#REF!) | G15: 3.2.1.1 Ejecución de los procesos de compra en tiempo oportuno | H15: 3.2.1.1.04 | I15: Acompañamiento a los CEAS en el desempeño de los procesos de compras | L15: 1 | O15: 1 | R15: 1 | U15: 1 | V15: =SUM(Tabla2[[#This Row],[Ene]:[Dic]]) -> 4 | W15: Registro Digital | Z15: Administrativo
B16: =IF('Formulario PPGR2'!$G88="","",CONCATENATE('Formulario PPGR2'!$C88,".",'Formulario PPGR2'!$D88,".",'Formulario PPGR2'!$E88,".",'Formulario PPGR2'!$F88)) -> #REF! | D16: =IF('Formulario PPGR2'!$G88="","",'Formulario PPGR1'!#REF!) -> #REF! | E16: =IF('Formulario PPGR2'!$G88="","",'Formulario PPGR1'!#REF!) -> #REF! | F16: =IF('Formulario PPGR2'!$G88="","",'Formulario PPGR1'!#REF!) -> #REF! | G16: 1.2.2.1 Articulación de la Red SNS | H16: 1.2.2.1.01 | I16: Seguimiento al registro de referencias y contrareferencias de la Red | J16: 1 | K16: 1 | L16: 1 | M16: 1 | N16: 1 | O16: 1 | P16: 1 | Q16: 1 | R16: 1 | S16: 1 | T16: 1 | U16: 1 | V16: =SUM(Tabla2[[#This Row],[Ene]:[Dic]]) -> 12 | W16: Reporte | Z16: Atención a los Usuarios
B17: =IF('Formulario PPGR2'!$G145="","",CONCATENATE('Formulario PPGR2'!$C145,".",'Formulario PPGR2'!$D145,".",'Formulario PPGR2'!$E145,".",'Formulario PPGR2'!$F145)) -> #REF! | C17: =IF('Formulario PPGR2'!$G145="","",'Formulario PPGR1'!#REF!) -> #REF! | D17: =IF('Formulario PPGR2'!$G145="","",'Formulario PPGR1'!#REF!) -> #REF! | E17: =IF('Formulario PPGR2'!$G145="","",'Formulario PPGR1'!#REF!) -> #REF! | F17: =IF('Formulario PPGR2'!$G145="","",'Formulario PPGR1'!#REF!) -> #REF! | G17: 1.3.3.1 Gestión de la Experiencia del Paciente | H17: 1.3.3.1.01 | I17: Implementación de grupos focales para determinar la calidad percibida del servicio | L17: 1 | M17: 1 | N17: 1 | O17: 1 | P17: 1 | Q17: 1 | R17: 1 | S17: 1 | T17: 1 | V17: =SUM(Tabla2[[#This Row],[Ene]:[Dic]]) -> 9 | W17: Fotos | X17: Reporte | Y17: Cronograma de grupos focales | Z17: Atención a los Usuarios | AA17: El SRS debe garantizar al menos un grupo focal anual para cada CEAS de su demarcación. Tienen que identificar en que mes realizarían el grupo focal. El SRS debe realizar esta actividad en todos los hospitales durante el año. Reporte con el registro de participantes (puede ser digital).
B18: =IF('Formulario PPGR2'!$G146="","",CONCATENATE('Formulario PPGR2'!$C146,".",'Formulario PPGR2'!$D146,".",'Formulario PPGR2'!$E146,".",'Formulario PPGR2'!$F146)) -> #REF! | C18: =IF('Formulario PPGR2'!$G146="","",'Formulario PPGR1'!#REF!) -> #REF! | D18: =IF('Formulario PPGR2'!$G146="","",'Formulario PPGR1'!#REF!) -> #REF! | E18: =IF('Formulario PPGR2'!$G146="","",'Formulario PPGR1'!#REF!) -> #REF! | F18: =IF('Formulario PPGR2'!$G146="","",'Formulario PPGR1'!#REF!) -> #REF! | G18: 1.3.3.1 Gestión de la Experiencia del Paciente | H18: 1.3.3.1.02 | I18: Seguimiento a la gestión de los buzones de sugerencias (QDRS) | J18: 1 | K18: 1 | L18: 1 | M18: 1 | N18: 1 | O18: 1 | P18: 1 | Q18: 1 | R18: 1 | S18: 1 | T18: 1 | U18: 1 | V18: =SUM(Tabla2[[#This Row],[Ene]:[Dic]]) -> 12 | W18: Reporte | Z18: Atención a los Usuarios
B19: =IF('Formulario PPGR2'!$G147="","",CONCATENATE('Formulario PPGR2'!$C147,".",'Formulario PPGR2'!$D147,".",'Formulario PPGR2'!$E147,".",'Formulario PPGR2'!$F147)) -> #REF! | C19: =IF('Formulario PPGR2'!$G147="","",'Formulario PPGR1'!#REF!) -> #REF! | D19: =IF('Formulario PPGR2'!$G147="","",'Formulario PPGR1'!#REF!) -> #REF! | E19: =IF('Formulario PPGR2'!$G147="","",'Formulario PPGR1'!#REF!) -> #REF! | F19: =IF('Formulario PPGR2'!$G147="","",'Formulario PPGR1'!#REF!) -> #REF! | G19: 1.3.3.1 Gestión de la Experiencia del Paciente | H19: 1.3.3.1.03 | I19: Visita de supervisión a los CEAS para validar cumplimiento de los atributos de la experiencia del paciente | L19: 1 | O19: 1 | R19: 1 | U19: 1 | V19: =SUM(Tabla2[[#This Row],[Ene]:[Dic]]) -> 4 | W19: Reporte | Y19: Trimestralmente deben cubrir todos los CEAS | Z19: Atención a los Usuarios
B20: =IF('Formulario PPGR2'!$G148="","",CONCATENATE('Formulario PPGR2'!$C148,".",'Formulario PPGR2'!$D148,".",'Formulario PPGR2'!$E148,".",'Formulario PPGR2'!$F148)) -> #REF! | C20: =IF('Formulario PPGR2'!$G148="","",'Formulario PPGR1'!#REF!) -> #REF! | D20: =IF('Formulario PPGR2'!$G148="","",'Formulario PPGR1'!#REF!) -> #REF! | E20: =IF('Formulario PPGR2'!$G148="","",'Formulario PPGR1'!#REF!) -> #REF! | F20: =IF('Formulario PPGR2'!$G148="","",'Formulario PPGR1'!#REF!) -> #REF! | G20: 1.3.3.1 Gestión de la Experiencia del Paciente | H20: 1.3.3.1.04 | I20: Seguimiento a la implementación del plan de mejora de la experiencia del paciente | P20: 1 | U20: 1 | V20: =SUM(Tabla2[[#This Row],[Ene]:[Dic]]) -> 2 | W20: Reporte | Z20: Atención a los Usuarios
B21: =IF('Formulario PPGR2'!$G158="","",CONCATENATE('Formulario PPGR2'!$C158,".",'Formulario PPGR2'!$D158,".",'Formulario PPGR2'!$E158,".",'Formulario PPGR2'!$F158)) -> #REF! | C21: =IF('Formulario PPGR2'!$G158="","",'Formulario PPGR1'!#REF!) -> #REF! | D21: =IF('Formulario PPGR2'!$G158="","",'Formulario PPGR1'!#REF!) -> #REF! | E21: =IF('Formulario PPGR2'!$G158="","",'Formulario PPGR1'!#REF!) -> #REF! | F21: =IF('Formulario PPGR2'!$G158="","",'Formulario PPGR1'!#REF!) -> #REF! | G21: 1.3.4.1 Monitoreo de la Calidad en los Servicios de Salud | H21: 1.3.4.1.01 | I21: Coordinación y logística de la Capacitación en Metodologías, Técnicas y Uso de los Instrumentos para el Monitoreo de la Calidad en los Servicios Priorizados en la Red | M21: 1 | V21: =SUM(Tabla2[[#This Row],[Ene]:[Dic]]) -> 1 | W21: Listado de participación | X21: Fotos | Y21: Correo de confirmación | Z21: Calidad de los Servicios de Salud | AA21: 1 Capacitación por SRS, convocar representantes de c/CEAS. De la sede central (2) serán los facilitadores. Se agrego el correo de confirmacion 10/03/2025
B22: =IF('Formulario PPGR2'!$G159="","",CONCATENATE('Formulario PPGR2'!$C159,".",'Formulario PPGR2'!$D159,".",'Formulario PPGR2'!$E159,".",'Formulario PPGR2'!$F159)) -> #REF! | C22: =IF('Formulario PPGR2'!$G159="","",'Formulario PPGR1'!#REF!) -> #REF! | D22: =IF('Formulario PPGR2'!$G159="","",'Formulario PPGR1'!#REF!) -> #REF! | E22: =IF('Formulario PPGR2'!$G159="","",'Formulario PPGR1'!#REF!) -> #REF! | F22: =IF('Formulario PPGR2'!$G159="","",'Formulario PPGR1'!#REF!) -> #REF! | G22: 1.3.4.1 Monitoreo de la Calidad en los Servicios de Salud | H22: 1.3.4.1.02 | I22: Coordinación y logística de la Capacitación en Humanización de los Servicios | M22: 1 | V22: =SUM(Tabla2[[#This Row],[Ene]:[Dic]]) -> 1 | W22: Listado de participación | X22: Fotos | Y22: Correo de confirmación | Z22: Calidad de los Servicios de Salud | AA22: 1 Capacitación por SRS, convocar médicos y enfermeras de c/CEAS; será facilitado por la sede central. MARZO: Metropolitano, Valdesia y Norcentral. JUNIO: Nordeste, Enriquillo y Este. SEPTIEMBRE: El Valle, Cibao Occidental y Cibao Central.
B23: =IF('Formulario PPGR2'!$G160="","",CONCATENATE('Formulario PPGR2'!$C160,".",'Formulario PPGR2'!$D160,".",'Formulario PPGR2'!$E160,".",'Formulario PPGR2'!$F160)) -> #REF! | C23: =IF('Formulario PPGR2'!$G160="","",'Formulario PPGR1'!#REF!) -> #REF! | D23: =IF('Formulario PPGR2'!$G160="","",'Formulario PPGR1'!#REF!) -> #REF! | E23: =IF('Formulario PPGR2'!$G160="","",'Formulario PPGR1'!#REF!) -> #REF! | F23: =IF('Formulario PPGR2'!$G160="","",'Formulario PPGR1'!#REF!) -> #REF! | G23: 1.3.4.1 Monitoreo de la Calidad en los Servicios de Salud | H23: 1.3.4.1.03 | I23: Elaboración del Cronograma de Supervisión de Calidad en los EES | J23: 1 | M23: 1 | P23: 1 | S23: 1 | V23: =SUM(Tabla2[[#This Row],[Ene]:[Dic]]) -> 4 | W23: Otros | Y23: Cronograma Cada cronograma debe garantizar la visita a varios CEAS en el trimestre, asegurando al menos una visita anual al 100% de los CEAS de su demarcación | Z23: Calidad de los Servicios de Salud | AA23: Favor de identificar actividades priorizadas que se supervisaran. Y Medio de Evidencia. La direccion de Calidad de los Servicios de Salud de la DCSNS estará contantando al SRS para darle los lineamientos e informaciones al respecto.
B24: =IF('Formulario PPGR2'!$G161="","",CONCATENATE('Formulario PPGR2'!$C161,".",'Formulario PPGR2'!$D161,".",'Formulario PPGR2'!$E161,".",'Formulario PPGR2'!$F161)) -> #REF! | C24: =IF('Formulario PPGR2'!$G161="","",'Formulario PPGR1'!#REF!) -> #REF! | D24: =IF('Formulario PPGR2'!$G161="","",'Formulario PPGR1'!#REF!) -> #REF! | E24: =IF('Formulario PPGR2'!$G161="","",'Formulario PPGR1'!#REF!) -> #REF! | F24: =IF('Formulario PPGR2'!$G161="","",'Formulario PPGR1'!#REF!) -> #REF! | G24: 1.3.4.1 Monitoreo de la Calidad en los Servicios de Salud | H24: 1.3.4.1.04 | I24: Ejecución del Cronograma de Supervisión de Calidad en los EES | M24: 1 | Q24: 1 | U24: 1 | V24: =SUM(Tabla2[[#This Row],[Ene]:[Dic]]) -> 3 | W24: Informe | X24: Listado de participación | Y24: Acorde al cronograma de supervisión a realizar y ejecutar por cada SRS. | Z24: Calidad de los Servicios de Salud | AA24: Favor de identificar actiividades priorizadas que se supervisaran. La direccion de Calidad de los Servicios de Salud de la DCSNS estará contantando al SRS para darle los lineamientos e informaciones al respecto.
B25: =IF('Formulario PPGR2'!$G165="","",CONCATENATE('Formulario PPGR2'!$C165,".",'Formulario PPGR2'!$D165,".",'Formulario PPGR2'!$E165,".",'Formulario PPGR2'!$F165)) -> #REF! | C25: =IF('Formulario PPGR2'!$G165="","",'Formulario PPGR1'!#REF!) -> #REF! | D25: =IF('Formulario PPGR2'!$G165="","",'Formulario PPGR1'!#REF!) -> #REF! | E25: =IF('Formulario PPGR2'!$G165="","",'Formulario PPGR1'!#REF!) -> #REF! | F25: =IF('Formulario PPGR2'!$G165="","",'Formulario PPGR1'!#REF!) -> #REF! | G25: 1.3.4.2 Prevención y Control del Riesgo Biológico | H25: 1.3.4.2.01 | I25: Coordinación y logística de las Capacitaciones para el Fortalecimiento de los Procesos de Bioseguridad, Control de Infecciones e Higiene y Desechos Hospitalarios | N25: 1 | V25: =SUM(Tabla2[[#This Row],[Ene]:[Dic]]) -> 1 | W25: Listado de participación | X25: Fotos | Y25: correo electronico de convocatorio que realicen a los EES de su SRS | Z25: Calidad de los Servicios de Salud | AA25: 1 Capacitación por SRS, convocar a epidemiología, salud ocupacional y control de infecciones de cada CEAS. Duración del taller: 2 dias. Los representantes de la sede central (2) serán los facilitadores.
B26: =IF('Formulario PPGR2'!$G166="","",CONCATENATE('Formulario PPGR2'!$C166,".",'Formulario PPGR2'!$D166,".",'Formulario PPGR2'!$E166,".",'Formulario PPGR2'!$F166)) -> #REF! | C26: =IF('Formulario PPGR2'!$G166="","",'Formulario PPGR1'!#REF!) -> #REF! | D26: =IF('Formulario PPGR2'!$G166="","",'Formulario PPGR1'!#REF!) -> #REF! | E26: =IF('Formulario PPGR2'!$G166="","",'Formulario PPGR1'!#REF!) -> #REF! | F26: =IF('Formulario PPGR2'!$G166="","",'Formulario PPGR1'!#REF!) -> #REF! | G26: 1.3.4.2 Prevención y Control del Riesgo Biológico | H26: 1.3.4.2.02 | I26: Seguimiento a los Procesos de Bioseguridad, Control de Infecciones e Higiene y Desechos Hospitalarios (Evaluaciones y Planes de Mejora) | N26: 1 | S26: 1 | V26: =SUM(Tabla2[[#This Row],[Ene]:[Dic]]) -> 2 | W26: Informe | Z26: Calidad de los Servicios de Salud
B27: =IF('Formulario PPGR2'!$G170="","",CONCATENATE('Formulario PPGR2'!$C170,".",'Formulario PPGR2'!$D170,".",'Formulario PPGR2'!$E170,".",'Formulario PPGR2'!$F170)) -> #REF! | C27: =IF('Formulario PPGR2'!$G170="","",'Formulario PPGR1'!#REF!) -> #REF! | D27: =IF('Formulario PPGR2'!$G170="","",'Formulario PPGR1'!#REF!) -> #REF! | E27: =IF('Formulario PPGR2'!$G170="","",'Formulario PPGR1'!#REF!) -> #REF! | F27: =IF('Formulario PPGR2'!$G170="","",'Formulario PPGR1'!#REF!) -> #REF! | G27: 1.3.4.3 Seguimiento a la Habilitación de los Servicios de Salud | H27: 1.3.4.3.01 | I27: Seguimiento a los Procesos de Autoinspección de la Habilitación de los Servicios de Salud | M27: 1 | V27: =SUM(Tabla2[[#This Row],[Ene]:[Dic]]) -> 1 | W27: Reporte | X27: Otros | Y27: Formularios | Z27: Calidad de los Servicios de Salud | AA27: Favor de Considerar Socializacion Previa del proceso con cada EES por personale involucrados em la ejecucion.Febrero B, La direccion de Calidad de los Servicios de Salud de la DCSNS estará contantando al SRS para darle los lineamientos e informaciones al respecto.
B28: =IF('Formulario PPGR2'!$G171="","",CONCATENATE('Formulario PPGR2'!$C171,".",'Formulario PPGR2'!$D171,".",'Formulario PPGR2'!$E171,".",'Formulario PPGR2'!$F171)) -> #REF! | C28: =IF('Formulario PPGR2'!$G171="","",'Formulario PPGR1'!#REF!) -> #REF! | D28: =IF('Formulario PPGR2'!$G171="","",'Formulario PPGR1'!#REF!) -> #REF! | E28: =IF('Formulario PPGR2'!$G171="","",'Formulario PPGR1'!#REF!) -> #REF! | F28: =IF('Formulario PPGR2'!$G171="","",'Formulario PPGR1'!#REF!) -> #REF! | G28: 1.3.4.3 Seguimiento a la Habilitación de los Servicios de Salud | H28: 1.3.4.3.02 | I28: Seguimiento a la implementación de planes de mejoras priorizadas de la Habilitación de los Servicios de Salud | R28: 1 | U28: 1 | V28: =SUM(Tabla2[[#This Row],[Ene]:[Dic]]) -> 2 | W28: Informe | Z28: Calidad de los Servicios de Salud
B29: =IF('Formulario PPGR2'!$G172="","",CONCATENATE('Formulario PPGR2'!$C172,".",'Formulario PPGR2'!$D172,".",'Formulario PPGR2'!$E172,".",'Formulario PPGR2'!$F172)) -> #REF! | C29: =IF('Formulario PPGR2'!$G172="","",'Formulario PPGR1'!#REF!) -> #REF! | D29: =IF('Formulario PPGR2'!$G172="","",'Formulario PPGR1'!#REF!) -> #REF! | E29: =IF('Formulario PPGR2'!$G172="","",'Formulario PPGR1'!#REF!) -> #REF! | F29: =IF('Formulario PPGR2'!$G172="","",'Formulario PPGR1'!#REF!) -> #REF! | G29: 1.3.4.3 Seguimiento a la Habilitación de los Servicios de Salud | H29: 1.3.4.3.03 | I29: Seguimiento a las Solicitudes de Habilitación de los CEAS | N29: 1 | S29: 1 | V29: =SUM(Tabla2[[#This Row],[Ene]:[Dic]]) -> 2 | W29: Reporte | Z29: Calidad de los Servicios de Salud | AA29: Favor de especificar el reporte si sera el recibo de habilitacion o reporte tipo informe. La direccion de Calidad de los Servicios de Salud de la DCSNS estará contantando al SRS para darle los lineamientos e informaciones al respecto.
B30: =IF('Formulario PPGR2'!$G22="","",CONCATENATE('Formulario PPGR2'!$C22,".",'Formulario PPGR2'!$D22,".",'Formulario PPGR2'!$E22,".",'Formulario PPGR2'!$F22)) -> #REF! | D30: =IF('Formulario PPGR2'!$G22="","",'Formulario PPGR1'!#REF!) -> #REF! | E30: =IF('Formulario PPGR2'!$G22="","",'Formulario PPGR1'!#REF!) -> #REF! | F30: =IF('Formulario PPGR2'!$G22="","",'Formulario PPGR1'!#REF!) -> #REF! | G30: 1.1.2.1 Programa de Fortalecimiento del Nivel Especializado | H30: 1.1.2.1.02 | I30: Seguimiento a la elaboracion y ejecución del plan de mejora para la disminución de lista de espera | N30: 1 | Q30: 1 | U30: 1 | V30: =SUM(Tabla2[[#This Row],[Ene]:[Dic]]) -> 3 | W30: Informe | Z30: Centros Hospitalarios
B31: =IF('Formulario PPGR2'!$G23="","",CONCATENATE('Formulario PPGR2'!$C23,".",'Formulario PPGR2'!$D23,".",'Formulario PPGR2'!$E23,".",'Formulario PPGR2'!$F23)) -> #REF! | D31: =IF('Formulario PPGR2'!$G23="","",'Formulario PPGR1'!#REF!) -> #REF! | E31: =IF('Formulario PPGR2'!$G23="","",'Formulario PPGR1'!#REF!) -> #REF! | F31: =IF('Formulario PPGR2'!$G23="","",'Formulario PPGR1'!#REF!) -> #REF! | G31: 1.1.2.1 Programa de Fortalecimiento del Nivel Especializado | H31: 1.1.2.1.03 | I31: Análisis del comportamiento de las objeciones médicas y administrativas (SENASA) y otras ARS del régimen Contributivo | J31: 1 | K31: 1 | L31: 1 | M31: 1 | N31: 1 | O31: 1 | P31: 1 | Q31: 1 | R31: 1 | S31: 1 | T31: 1 | U31: 1 | V31: =SUM(Tabla2[[#This Row],[Ene]:[Dic]]) -> 12 | W31: Informe | Z31: Centros Hospitalarios
B32: =IF('Formulario PPGR2'!$G24="","",CONCATENATE('Formulario PPGR2'!$C24,".",'Formulario PPGR2'!$D24,".",'Formulario PPGR2'!$E24,".",'Formulario PPGR2'!$F24)) -> #REF! | D32: =IF('Formulario PPGR2'!$G24="","",'Formulario PPGR1'!#REF!) -> #REF! | E32: =IF('Formulario PPGR2'!$G24="","",'Formulario PPGR1'!#REF!) -> #REF! | F32: =IF('Formulario PPGR2'!$G24="","",'Formulario PPGR1'!#REF!) -> #REF! | G32: 1.1.2.1 Programa de Fortalecimiento del Nivel Especializado | H32: 1.1.2.1.04 | I32: Seguimiento a la elaboración de los planes de mejora para la disminución de las objeciones médicas, administrativas y el incremento de la facturación de los CEAS | O32: 1 | U32: 1 | V32: =SUM(Tabla2[[#This Row],[Ene]:[Dic]]) -> 2 | W32: Reporte | X32: Plan | Z32: Centros Hospitalarios
B33: =IF('Formulario PPGR2'!$G25="","",CONCATENATE('Formulario PPGR2'!$C25,".",'Formulario PPGR2'!$D25,".",'Formulario PPGR2'!$E25,".",'Formulario PPGR2'!$F25)) -> #REF! | D33: =IF('Formulario PPGR2'!$G25="","",'Formulario PPGR1'!#REF!) -> #REF! | E33: =IF('Formulario PPGR2'!$G25="","",'Formulario PPGR1'!#REF!) -> #REF! | F33: =IF('Formulario PPGR2'!$G25="","",'Formulario PPGR1'!#REF!) -> #REF! | G33: 1.1.2.1 Programa de Fortalecimiento del Nivel Especializado | H33: 1.1.2.1.05 | I33: Seguimiento a la ejecución de los planes de mejora para la disminucion de las glosas y el incremento de la facturación de los CEAS. | P33: 1 | U33: 1 | V33: =SUM(Tabla2[[#This Row],[Ene]:[Dic]]) -> 2 | W33: Informe | X33: Plan | Z33: Centros Hospitalarios
B34: =IF('Formulario PPGR2'!$G26="","",CONCATENATE('Formulario PPGR2'!$C26,".",'Formulario PPGR2'!$D26,".",'Formulario PPGR2'!$E26,".",'Formulario PPGR2'!$F26)) -> #REF! | D34: =IF('Formulario PPGR2'!$G26="","",'Formulario PPGR1'!#REF!) -> #REF! | E34: =IF('Formulario PPGR2'!$G26="","",'Formulario PPGR1'!#REF!) -> #REF! | F34: =IF('Formulario PPGR2'!$G26="","",'Formulario PPGR1'!#REF!) -> #REF! | G34: 1.1.2.1 Programa de Fortalecimiento del Nivel Especializado | H34: 1.1.2.1.06 | I34: Levantamiento de hospitales para conocer estatus de la contratacion de las ARS | P34: 1 | V34: =SUM(Tabla2[[#This Row],[Ene]:[Dic]]) -> 1 | W34: Otros | Y34: Matriz de ARS contratadas por hospital | Z34: Centros Hospitalarios
B35: =IF('Formulario PPGR2'!$G27="","",CONCATENATE('Formulario PPGR2'!$C27,".",'Formulario PPGR2'!$D27,".",'Formulario PPGR2'!$E27,".",'Formulario PPGR2'!$F27)) -> #REF! | D35: =IF('Formulario PPGR2'!$G27="","",'Formulario PPGR1'!#REF!) -> #REF! | E35: =IF('Formulario PPGR2'!$G27="","",'Formulario PPGR1'!#REF!) -> #REF! | F35: =IF('Formulario PPGR2'!$G27="","",'Formulario PPGR1'!#REF!) -> #REF! | G35: 1.1.2.1 Programa de Fortalecimiento del Nivel Especializado | H35: 1.1.2.1.07 | I35: Seguimiento a la implementacion del proceso de prefactura para la optimizacion y efectividad del proceso de factura en los centros priorizados. | M35: 1 | P35: 1 | R35: 1 | U35: 1 | V35: =SUM(Tabla2[[#This Row],[Ene]:[Dic]]) -> 4 | W35: Informe | Z35: Centros Hospitalarios
B36: =IF('Formulario PPGR2'!$G140="","",CONCATENATE('Formulario PPGR2'!$C140,".",'Formulario PPGR2'!$D140,".",'Formulario PPGR2'!$E140,".",'Formulario PPGR2'!$F140)) -> #REF! | D36: =IF('Formulario PPGR2'!$G140="","",'Formulario PPGR1'!#REF!) -> #REF! | E36: =IF('Formulario PPGR2'!$G140="","",'Formulario PPGR1'!#REF!) -> #REF! | F36: =IF('Formulario PPGR2'!$G140="","",'Formulario PPGR1'!#REF!) -> #REF! | G36: 1.2.5.1 Implementación de la Metodología de la Gestión Productiva de Servicios de Salud | H36: 1.2.5.1.01 | I36: Revisión y validación de los autodiagnósticos realizados por hospitales piloto para la implementación de MGPSS | M36: 1 | V36: =SUM(Tabla2[[#This Row],[Ene]:[Dic]]) -> 1 | W36: Reporte | Z36: Centros Hospitalarios
B37: =IF('Formulario PPGR2'!$G141="","",CONCATENATE('Formulario PPGR2'!$C141,".",'Formulario PPGR2'!$D141,".",'Formulario PPGR2'!$E141,".",'Formulario PPGR2'!$F141)) -> #REF! | D37: =IF('Formulario PPGR2'!$G141="","",'Formulario PPGR1'!#REF!) -> #REF! | E37: =IF('Formulario PPGR2'!$G141="","",'Formulario PPGR1'!#REF!) -> #REF! | F37: =IF('Formulario PPGR2'!$G141="","",'Formulario PPGR1'!#REF!) -> #REF! | G37: 1.2.5.1 Implementación de la Metodología de la Gestión Productiva de Servicios de Salud | H37: 1.2.5.1.02 | I37: Seguimiento a la elaboración y ejecución de los planes de mejora de la MGPSS en los centros priorizados del SRS | N37: 1 | T37: 1 | V37: =SUM(Tabla2[[#This Row],[Ene]:[Dic]]) -> 2 | W37: Informe | Z37: Centros Hospitalarios
